BEGIN:VCALENDAR
VERSION:2.0
PRODID:-//Life Mission Church - ECPv6.15.20//NONSGML v1.0//EN
CALSCALE:GREGORIAN
METHOD:PUBLISH
X-WR-CALNAME:Life Mission Church
X-ORIGINAL-URL:https://lifemissionchurch.com
X-WR-CALDESC:Events for Life Mission Church
REFRESH-INTERVAL;VALUE=DURATION:PT1H
X-Robots-Tag:noindex
X-PUBLISHED-TTL:PT1H
BEGIN:VTIMEZONE
TZID:America/Los_Angeles
BEGIN:DAYLIGHT
TZOFFSETFROM:-0800
TZOFFSETTO:-0700
TZNAME:PDT
DTSTART:20250309T100000
END:DAYLIGHT
BEGIN:STANDARD
TZOFFSETFROM:-0700
TZOFFSETTO:-0800
TZNAME:PST
DTSTART:20251102T090000
END:STANDARD
BEGIN:DAYLIGHT
TZOFFSETFROM:-0800
TZOFFSETTO:-0700
TZNAME:PDT
DTSTART:20260308T100000
END:DAYLIGHT
BEGIN:STANDARD
TZOFFSETFROM:-0700
TZOFFSETTO:-0800
TZNAME:PST
DTSTART:20261101T090000
END:STANDARD
BEGIN:DAYLIGHT
TZOFFSETFROM:-0800
TZOFFSETTO:-0700
TZNAME:PDT
DTSTART:20270314T100000
END:DAYLIGHT
BEGIN:STANDARD
TZOFFSETFROM:-0700
TZOFFSETTO:-0800
TZNAME:PST
DTSTART:20271107T090000
END:STANDARD
END:VTIMEZONE
BEGIN:VEVENT
DTSTART;TZID=America/Los_Angeles:20260426T100000
DTEND;TZID=America/Los_Angeles:20260426T113000
DTSTAMP:20260424T061629
CREATED:20241117T173353Z
LAST-MODIFIED:20250129T035758Z
UID:10000447-1777197600-1777203000@lifemissionchurch.com
SUMMARY:Sunday Service
DESCRIPTION:Join us for Worship – Online and In Person!\nFor details on what Sundays look like at Life Mission Church\, head on over to our Sunday Mornings page. \nOur live stream will be hosted on YouTube (embedded below) and previous sermons can be found on our Sermon Archive. \n \nSermon notes are here\, in case you’d like to follow along from home. \nWe hope to see you this Sunday!
URL:https://lifemissionchurch.com/event/sunday-service-series/2026-04-26/
LOCATION:Life Mission Church\, 207 E Pennsylvania Ave\, Escondido\, CA\, 92025\, United States
END:VEVENT
BEGIN:VEVENT
DTSTART;TZID=America/Los_Angeles:20260426T190000
DTEND;TZID=America/Los_Angeles:20260426T210000
DTSTAMP:20260424T061629
CREATED:20251108T212903Z
LAST-MODIFIED:20260324T041410Z
UID:10001427-1777230000-1777237200@lifemissionchurch.com
SUMMARY:Young Adults Gathering
DESCRIPTION:Our Young Adults Gathering meets on Sunday nights from 7 to 9pm at the McGinty’s home for anyone aged 18 to 25(ish). We’re a very social\, discussion focused group that dives into pressing questions\, challenges\, and issues that those in their late teens and early twenties face every day.
URL:https://lifemissionchurch.com/event/young-adults-gathering/2026-04-26/
LOCATION:McGinty’s Home
END:VEVENT
BEGIN:VEVENT
DTSTART;TZID=America/Los_Angeles:20260430T183000
DTEND;TZID=America/Los_Angeles:20260430T203000
DTSTAMP:20260424T061629
CREATED:20251201T015609Z
LAST-MODIFIED:20260331T062204Z
UID:10002022-1777573800-1777581000@lifemissionchurch.com
SUMMARY:Youth Group
DESCRIPTION:Our 6th-12th grade students gather each Thursday night at the McGinty’s for fun and fellowship.  Contact Tyler Willis (tyler@lifemission.tv) for details.
URL:https://lifemissionchurch.com/event/youth-group/2026-04-30/
LOCATION:CA
CATEGORIES:Youth Ministry
END:VEVENT
BEGIN:VEVENT
DTSTART;TZID=America/Los_Angeles:20260503T100000
DTEND;TZID=America/Los_Angeles:20260503T113000
DTSTAMP:20260424T061629
CREATED:20241117T173353Z
LAST-MODIFIED:20250129T035758Z
UID:10000448-1777802400-1777807800@lifemissionchurch.com
SUMMARY:Sunday Service
DESCRIPTION:Join us for Worship – Online and In Person!\nFor details on what Sundays look like at Life Mission Church\, head on over to our Sunday Mornings page. \nOur live stream will be hosted on YouTube (embedded below) and previous sermons can be found on our Sermon Archive. \n \nSermon notes are here\, in case you’d like to follow along from home. \nWe hope to see you this Sunday!
URL:https://lifemissionchurch.com/event/sunday-service-series/2026-05-03/
LOCATION:Life Mission Church\, 207 E Pennsylvania Ave\, Escondido\, CA\, 92025\, United States
END:VEVENT
BEGIN:VEVENT
DTSTART;TZID=America/Los_Angeles:20260503T120000
DTEND;TZID=America/Los_Angeles:20260503T150000
DTSTAMP:20260424T061629
CREATED:20240721T161556Z
LAST-MODIFIED:20260320T170819Z
UID:10000840-1777809600-1777820400@lifemissionchurch.com
SUMMARY:Community Meal
DESCRIPTION:Join us for lunch after our Morning Service. Bring your family\, friends and a favorite dish to share. There will be refrigerators and outlets to help keep food at the right temperature during service. Hope to see you there! \nSign up to bring something to share here!
URL:https://lifemissionchurch.com/event/community-meal/2026-05-03/
LOCATION:Life Mission Church\, 207 E Pennsylvania Ave\, Escondido\, CA\, 92025\, United States
CATEGORIES:Church Life
ATTACH;FMTTYPE=image/png:https://lifemissionchurch.com/wp-content/uploads/2024/07/CommunityMeal_Web.png
END:VEVENT
BEGIN:VEVENT
DTSTART;TZID=America/Los_Angeles:20260503T190000
DTEND;TZID=America/Los_Angeles:20260503T210000
DTSTAMP:20260424T061629
CREATED:20251108T212903Z
LAST-MODIFIED:20260324T041410Z
UID:10001428-1777834800-1777842000@lifemissionchurch.com
SUMMARY:Young Adults Gathering
DESCRIPTION:Our Young Adults Gathering meets on Sunday nights from 7 to 9pm at the McGinty’s home for anyone aged 18 to 25(ish). We’re a very social\, discussion focused group that dives into pressing questions\, challenges\, and issues that those in their late teens and early twenties face every day.
URL:https://lifemissionchurch.com/event/young-adults-gathering/2026-05-03/
LOCATION:McGinty’s Home
END:VEVENT
BEGIN:VEVENT
DTSTART;TZID=America/Los_Angeles:20260504T190000
DTEND;TZID=America/Los_Angeles:20260504T203000
DTSTAMP:20260424T061629
CREATED:20260324T041618Z
LAST-MODIFIED:20260324T041725Z
UID:10000772-1777921200-1777926600@lifemissionchurch.com
SUMMARY:Monthly Women's Gathering
DESCRIPTION:This year we are studying the book of James. A different guest speaker will share from scripture each month\, leading a discussion time and there will be no homework. Don’t worry if you can’t commit to every month\, just come whenever you can. We want a casual space to study the Word together\, pray\, encourage and be built up together in Christ. \nClick here or scan the QR code\, below\, to sign up and receive additional details for our Monthly Gatherings.
URL:https://lifemissionchurch.com/event/monthly-womens-gathering-3-5-2/2026-05-04/
LOCATION:CA
CATEGORIES:Women's Ministry
ATTACH;FMTTYPE=image/jpeg:https://lifemissionchurch.com/wp-content/uploads/2024/07/WG25_Web.jpg
END:VEVENT
BEGIN:VEVENT
DTSTART;TZID=America/Los_Angeles:20260507T183000
DTEND;TZID=America/Los_Angeles:20260507T203000
DTSTAMP:20260424T061629
CREATED:20251201T015609Z
LAST-MODIFIED:20260331T062204Z
UID:10002023-1778178600-1778185800@lifemissionchurch.com
SUMMARY:Youth Group
DESCRIPTION:Our 6th-12th grade students gather each Thursday night at the McGinty’s for fun and fellowship.  Contact Tyler Willis (tyler@lifemission.tv) for details.
URL:https://lifemissionchurch.com/event/youth-group/2026-05-07/
LOCATION:CA
CATEGORIES:Youth Ministry
END:VEVENT
BEGIN:VEVENT
DTSTART;TZID=America/Los_Angeles:20260509T073000
DTEND;TZID=America/Los_Angeles:20260509T083000
DTSTAMP:20260424T061629
CREATED:20251026T050529Z
LAST-MODIFIED:20251122T155548Z
UID:10001936-1778311800-1778315400@lifemissionchurch.com
SUMMARY:Men's Ministry Meetup
DESCRIPTION:Men of Life Mission! Come out for a Saturday morning coffee/breakfast together.  This is a chance to share\, encourage\, and pray for each other\, our church\, and our community.
URL:https://lifemissionchurch.com/event/mens-ministry-meetup/2026-05-09/
LOCATION:Life Mission Church\, 207 E Pennsylvania Ave\, Escondido\, CA\, 92025\, United States
CATEGORIES:Men's Ministry
ORGANIZER;CN="Brian Galloway":MAILTO:brian@lifemission.tv
END:VEVENT
BEGIN:VEVENT
DTSTART;TZID=America/Los_Angeles:20260510T100000
DTEND;TZID=America/Los_Angeles:20260510T113000
DTSTAMP:20260424T061629
CREATED:20241117T173353Z
LAST-MODIFIED:20250129T035758Z
UID:10000449-1778407200-1778412600@lifemissionchurch.com
SUMMARY:Sunday Service
DESCRIPTION:Join us for Worship – Online and In Person!\nFor details on what Sundays look like at Life Mission Church\, head on over to our Sunday Mornings page. \nOur live stream will be hosted on YouTube (embedded below) and previous sermons can be found on our Sermon Archive. \n \nSermon notes are here\, in case you’d like to follow along from home. \nWe hope to see you this Sunday!
URL:https://lifemissionchurch.com/event/sunday-service-series/2026-05-10/
LOCATION:Life Mission Church\, 207 E Pennsylvania Ave\, Escondido\, CA\, 92025\, United States
END:VEVENT
BEGIN:VEVENT
DTSTART;TZID=America/Los_Angeles:20260510T190000
DTEND;TZID=America/Los_Angeles:20260510T210000
DTSTAMP:20260424T061629
CREATED:20251108T212903Z
LAST-MODIFIED:20260324T041410Z
UID:10001429-1778439600-1778446800@lifemissionchurch.com
SUMMARY:Young Adults Gathering
DESCRIPTION:Our Young Adults Gathering meets on Sunday nights from 7 to 9pm at the McGinty’s home for anyone aged 18 to 25(ish). We’re a very social\, discussion focused group that dives into pressing questions\, challenges\, and issues that those in their late teens and early twenties face every day.
URL:https://lifemissionchurch.com/event/young-adults-gathering/2026-05-10/
LOCATION:McGinty’s Home
END:VEVENT
BEGIN:VEVENT
DTSTART;TZID=America/Los_Angeles:20260514T183000
DTEND;TZID=America/Los_Angeles:20260514T203000
DTSTAMP:20260424T061629
CREATED:20251201T015609Z
LAST-MODIFIED:20260331T062204Z
UID:10002024-1778783400-1778790600@lifemissionchurch.com
SUMMARY:Youth Group
DESCRIPTION:Our 6th-12th grade students gather each Thursday night at the McGinty’s for fun and fellowship.  Contact Tyler Willis (tyler@lifemission.tv) for details.
URL:https://lifemissionchurch.com/event/youth-group/2026-05-14/
LOCATION:CA
CATEGORIES:Youth Ministry
END:VEVENT
BEGIN:VEVENT
DTSTART;TZID=America/Los_Angeles:20260517T100000
DTEND;TZID=America/Los_Angeles:20260517T113000
DTSTAMP:20260424T061629
CREATED:20241117T173353Z
LAST-MODIFIED:20250129T035758Z
UID:10000450-1779012000-1779017400@lifemissionchurch.com
SUMMARY:Sunday Service
DESCRIPTION:Join us for Worship – Online and In Person!\nFor details on what Sundays look like at Life Mission Church\, head on over to our Sunday Mornings page. \nOur live stream will be hosted on YouTube (embedded below) and previous sermons can be found on our Sermon Archive. \n \nSermon notes are here\, in case you’d like to follow along from home. \nWe hope to see you this Sunday!
URL:https://lifemissionchurch.com/event/sunday-service-series/2026-05-17/
LOCATION:Life Mission Church\, 207 E Pennsylvania Ave\, Escondido\, CA\, 92025\, United States
END:VEVENT
BEGIN:VEVENT
DTSTART;TZID=America/Los_Angeles:20260517T190000
DTEND;TZID=America/Los_Angeles:20260517T210000
DTSTAMP:20260424T061629
CREATED:20251108T212903Z
LAST-MODIFIED:20260324T041410Z
UID:10001430-1779044400-1779051600@lifemissionchurch.com
SUMMARY:Young Adults Gathering
DESCRIPTION:Our Young Adults Gathering meets on Sunday nights from 7 to 9pm at the McGinty’s home for anyone aged 18 to 25(ish). We’re a very social\, discussion focused group that dives into pressing questions\, challenges\, and issues that those in their late teens and early twenties face every day.
URL:https://lifemissionchurch.com/event/young-adults-gathering/2026-05-17/
LOCATION:McGinty’s Home
END:VEVENT
BEGIN:VEVENT
DTSTART;TZID=America/Los_Angeles:20260521T183000
DTEND;TZID=America/Los_Angeles:20260521T203000
DTSTAMP:20260424T061629
CREATED:20251201T015609Z
LAST-MODIFIED:20260331T062204Z
UID:10002025-1779388200-1779395400@lifemissionchurch.com
SUMMARY:Youth Group
DESCRIPTION:Our 6th-12th grade students gather each Thursday night at the McGinty’s for fun and fellowship.  Contact Tyler Willis (tyler@lifemission.tv) for details.
URL:https://lifemissionchurch.com/event/youth-group/2026-05-21/
LOCATION:CA
CATEGORIES:Youth Ministry
END:VEVENT
BEGIN:VEVENT
DTSTART;TZID=America/Los_Angeles:20260524T100000
DTEND;TZID=America/Los_Angeles:20260524T113000
DTSTAMP:20260424T061629
CREATED:20241117T173353Z
LAST-MODIFIED:20250129T035758Z
UID:10000451-1779616800-1779622200@lifemissionchurch.com
SUMMARY:Sunday Service
DESCRIPTION:Join us for Worship – Online and In Person!\nFor details on what Sundays look like at Life Mission Church\, head on over to our Sunday Mornings page. \nOur live stream will be hosted on YouTube (embedded below) and previous sermons can be found on our Sermon Archive. \n \nSermon notes are here\, in case you’d like to follow along from home. \nWe hope to see you this Sunday!
URL:https://lifemissionchurch.com/event/sunday-service-series/2026-05-24/
LOCATION:Life Mission Church\, 207 E Pennsylvania Ave\, Escondido\, CA\, 92025\, United States
END:VEVENT
BEGIN:VEVENT
DTSTART;TZID=America/Los_Angeles:20260524T190000
DTEND;TZID=America/Los_Angeles:20260524T210000
DTSTAMP:20260424T061629
CREATED:20251108T212903Z
LAST-MODIFIED:20260324T041410Z
UID:10001431-1779649200-1779656400@lifemissionchurch.com
SUMMARY:Young Adults Gathering
DESCRIPTION:Our Young Adults Gathering meets on Sunday nights from 7 to 9pm at the McGinty’s home for anyone aged 18 to 25(ish). We’re a very social\, discussion focused group that dives into pressing questions\, challenges\, and issues that those in their late teens and early twenties face every day.
URL:https://lifemissionchurch.com/event/young-adults-gathering/2026-05-24/
LOCATION:McGinty’s Home
END:VEVENT
BEGIN:VEVENT
DTSTART;TZID=America/Los_Angeles:20260528T183000
DTEND;TZID=America/Los_Angeles:20260528T203000
DTSTAMP:20260424T061629
CREATED:20251201T015609Z
LAST-MODIFIED:20260331T062204Z
UID:10002026-1779993000-1780000200@lifemissionchurch.com
SUMMARY:Youth Group
DESCRIPTION:Our 6th-12th grade students gather each Thursday night at the McGinty’s for fun and fellowship.  Contact Tyler Willis (tyler@lifemission.tv) for details.
URL:https://lifemissionchurch.com/event/youth-group/2026-05-28/
LOCATION:CA
CATEGORIES:Youth Ministry
END:VEVENT
BEGIN:VEVENT
DTSTART;TZID=America/Los_Angeles:20260531T100000
DTEND;TZID=America/Los_Angeles:20260531T113000
DTSTAMP:20260424T061629
CREATED:20241117T173353Z
LAST-MODIFIED:20250129T035758Z
UID:10000452-1780221600-1780227000@lifemissionchurch.com
SUMMARY:Sunday Service
DESCRIPTION:Join us for Worship – Online and In Person!\nFor details on what Sundays look like at Life Mission Church\, head on over to our Sunday Mornings page. \nOur live stream will be hosted on YouTube (embedded below) and previous sermons can be found on our Sermon Archive. \n \nSermon notes are here\, in case you’d like to follow along from home. \nWe hope to see you this Sunday!
URL:https://lifemissionchurch.com/event/sunday-service-series/2026-05-31/
LOCATION:Life Mission Church\, 207 E Pennsylvania Ave\, Escondido\, CA\, 92025\, United States
END:VEVENT
BEGIN:VEVENT
DTSTART;TZID=America/Los_Angeles:20260531T190000
DTEND;TZID=America/Los_Angeles:20260531T210000
DTSTAMP:20260424T061629
CREATED:20251108T212903Z
LAST-MODIFIED:20260324T041410Z
UID:10001432-1780254000-1780261200@lifemissionchurch.com
SUMMARY:Young Adults Gathering
DESCRIPTION:Our Young Adults Gathering meets on Sunday nights from 7 to 9pm at the McGinty’s home for anyone aged 18 to 25(ish). We’re a very social\, discussion focused group that dives into pressing questions\, challenges\, and issues that those in their late teens and early twenties face every day.
URL:https://lifemissionchurch.com/event/young-adults-gathering/2026-05-31/
LOCATION:McGinty’s Home
END:VEVENT
BEGIN:VEVENT
DTSTART;TZID=America/Los_Angeles:20260601T190000
DTEND;TZID=America/Los_Angeles:20260601T203000
DTSTAMP:20260424T061629
CREATED:20260324T041618Z
LAST-MODIFIED:20260324T041725Z
UID:10000773-1780340400-1780345800@lifemissionchurch.com
SUMMARY:Monthly Women's Gathering
DESCRIPTION:This year we are studying the book of James. A different guest speaker will share from scripture each month\, leading a discussion time and there will be no homework. Don’t worry if you can’t commit to every month\, just come whenever you can. We want a casual space to study the Word together\, pray\, encourage and be built up together in Christ. \nClick here or scan the QR code\, below\, to sign up and receive additional details for our Monthly Gatherings.
URL:https://lifemissionchurch.com/event/monthly-womens-gathering-3-5-2/2026-06-01/
LOCATION:CA
CATEGORIES:Women's Ministry
ATTACH;FMTTYPE=image/jpeg:https://lifemissionchurch.com/wp-content/uploads/2024/07/WG25_Web.jpg
END:VEVENT
BEGIN:VEVENT
DTSTART;TZID=America/Los_Angeles:20260604T183000
DTEND;TZID=America/Los_Angeles:20260604T203000
DTSTAMP:20260424T061629
CREATED:20251201T015609Z
LAST-MODIFIED:20260331T062204Z
UID:10002027-1780597800-1780605000@lifemissionchurch.com
SUMMARY:Youth Group
DESCRIPTION:Our 6th-12th grade students gather each Thursday night at the McGinty’s for fun and fellowship.  Contact Tyler Willis (tyler@lifemission.tv) for details.
URL:https://lifemissionchurch.com/event/youth-group/2026-06-04/
LOCATION:CA
CATEGORIES:Youth Ministry
END:VEVENT
BEGIN:VEVENT
DTSTART;TZID=America/Los_Angeles:20260607T100000
DTEND;TZID=America/Los_Angeles:20260607T113000
DTSTAMP:20260424T061629
CREATED:20241117T173353Z
LAST-MODIFIED:20250129T035758Z
UID:10000453-1780826400-1780831800@lifemissionchurch.com
SUMMARY:Sunday Service
DESCRIPTION:Join us for Worship – Online and In Person!\nFor details on what Sundays look like at Life Mission Church\, head on over to our Sunday Mornings page. \nOur live stream will be hosted on YouTube (embedded below) and previous sermons can be found on our Sermon Archive. \n \nSermon notes are here\, in case you’d like to follow along from home. \nWe hope to see you this Sunday!
URL:https://lifemissionchurch.com/event/sunday-service-series/2026-06-07/
LOCATION:Life Mission Church\, 207 E Pennsylvania Ave\, Escondido\, CA\, 92025\, United States
END:VEVENT
BEGIN:VEVENT
DTSTART;TZID=America/Los_Angeles:20260607T120000
DTEND;TZID=America/Los_Angeles:20260607T150000
DTSTAMP:20260424T061629
CREATED:20240721T161556Z
LAST-MODIFIED:20260320T170819Z
UID:10000841-1780833600-1780844400@lifemissionchurch.com
SUMMARY:Community Meal
DESCRIPTION:Join us for lunch after our Morning Service. Bring your family\, friends and a favorite dish to share. There will be refrigerators and outlets to help keep food at the right temperature during service. Hope to see you there! \nSign up to bring something to share here!
URL:https://lifemissionchurch.com/event/community-meal/2026-06-07/
LOCATION:Life Mission Church\, 207 E Pennsylvania Ave\, Escondido\, CA\, 92025\, United States
CATEGORIES:Church Life
ATTACH;FMTTYPE=image/png:https://lifemissionchurch.com/wp-content/uploads/2024/07/CommunityMeal_Web.png
END:VEVENT
BEGIN:VEVENT
DTSTART;TZID=America/Los_Angeles:20260607T190000
DTEND;TZID=America/Los_Angeles:20260607T210000
DTSTAMP:20260424T061629
CREATED:20251108T212903Z
LAST-MODIFIED:20260324T041410Z
UID:10001433-1780858800-1780866000@lifemissionchurch.com
SUMMARY:Young Adults Gathering
DESCRIPTION:Our Young Adults Gathering meets on Sunday nights from 7 to 9pm at the McGinty’s home for anyone aged 18 to 25(ish). We’re a very social\, discussion focused group that dives into pressing questions\, challenges\, and issues that those in their late teens and early twenties face every day.
URL:https://lifemissionchurch.com/event/young-adults-gathering/2026-06-07/
LOCATION:McGinty’s Home
END:VEVENT
BEGIN:VEVENT
DTSTART;TZID=America/Los_Angeles:20260611T183000
DTEND;TZID=America/Los_Angeles:20260611T203000
DTSTAMP:20260424T061629
CREATED:20251201T015609Z
LAST-MODIFIED:20260331T062204Z
UID:10002028-1781202600-1781209800@lifemissionchurch.com
SUMMARY:Youth Group
DESCRIPTION:Our 6th-12th grade students gather each Thursday night at the McGinty’s for fun and fellowship.  Contact Tyler Willis (tyler@lifemission.tv) for details.
URL:https://lifemissionchurch.com/event/youth-group/2026-06-11/
LOCATION:CA
CATEGORIES:Youth Ministry
END:VEVENT
BEGIN:VEVENT
DTSTART;TZID=America/Los_Angeles:20260613T073000
DTEND;TZID=America/Los_Angeles:20260613T083000
DTSTAMP:20260424T061629
CREATED:20251026T050529Z
LAST-MODIFIED:20251122T155548Z
UID:10001937-1781335800-1781339400@lifemissionchurch.com
SUMMARY:Men's Ministry Meetup
DESCRIPTION:Men of Life Mission! Come out for a Saturday morning coffee/breakfast together.  This is a chance to share\, encourage\, and pray for each other\, our church\, and our community.
URL:https://lifemissionchurch.com/event/mens-ministry-meetup/2026-06-13/
LOCATION:Life Mission Church\, 207 E Pennsylvania Ave\, Escondido\, CA\, 92025\, United States
CATEGORIES:Men's Ministry
ORGANIZER;CN="Brian Galloway":MAILTO:brian@lifemission.tv
END:VEVENT
BEGIN:VEVENT
DTSTART;TZID=America/Los_Angeles:20260614T100000
DTEND;TZID=America/Los_Angeles:20260614T113000
DTSTAMP:20260424T061629
CREATED:20241117T173353Z
LAST-MODIFIED:20250129T035758Z
UID:10000454-1781431200-1781436600@lifemissionchurch.com
SUMMARY:Sunday Service
DESCRIPTION:Join us for Worship – Online and In Person!\nFor details on what Sundays look like at Life Mission Church\, head on over to our Sunday Mornings page. \nOur live stream will be hosted on YouTube (embedded below) and previous sermons can be found on our Sermon Archive. \n \nSermon notes are here\, in case you’d like to follow along from home. \nWe hope to see you this Sunday!
URL:https://lifemissionchurch.com/event/sunday-service-series/2026-06-14/
LOCATION:Life Mission Church\, 207 E Pennsylvania Ave\, Escondido\, CA\, 92025\, United States
END:VEVENT
BEGIN:VEVENT
DTSTART;TZID=America/Los_Angeles:20260614T190000
DTEND;TZID=America/Los_Angeles:20260614T210000
DTSTAMP:20260424T061629
CREATED:20251108T212903Z
LAST-MODIFIED:20260324T041410Z
UID:10001434-1781463600-1781470800@lifemissionchurch.com
SUMMARY:Young Adults Gathering
DESCRIPTION:Our Young Adults Gathering meets on Sunday nights from 7 to 9pm at the McGinty’s home for anyone aged 18 to 25(ish). We’re a very social\, discussion focused group that dives into pressing questions\, challenges\, and issues that those in their late teens and early twenties face every day.
URL:https://lifemissionchurch.com/event/young-adults-gathering/2026-06-14/
LOCATION:McGinty’s Home
END:VEVENT
BEGIN:VEVENT
DTSTART;TZID=America/Los_Angeles:20260618T183000
DTEND;TZID=America/Los_Angeles:20260618T203000
DTSTAMP:20260424T061629
CREATED:20251201T015609Z
LAST-MODIFIED:20260331T062204Z
UID:10002029-1781807400-1781814600@lifemissionchurch.com
SUMMARY:Youth Group
DESCRIPTION:Our 6th-12th grade students gather each Thursday night at the McGinty’s for fun and fellowship.  Contact Tyler Willis (tyler@lifemission.tv) for details.
URL:https://lifemissionchurch.com/event/youth-group/2026-06-18/
LOCATION:CA
CATEGORIES:Youth Ministry
END:VEVENT
END:VCALENDAR